Package: HicAggR Version: 1.7.0 Command: /Library/Frameworks/R.framework/Resources/bin/R CMD build --keep-empty-dirs --no-resave-data HicAggR StartedAt: 2025-11-13 16:40:58 -0500 (Thu, 13 Nov 2025) EndedAt: 2025-11-13 16:43:00 -0500 (Thu, 13 Nov 2025) EllapsedTime: 121.3 seconds RetCode: 0 Status: OK PackageFile: HicAggR_1.7.0.tar.gz PackageFileSize: 3.331 MiB