Package: HiTC Version: 1.55.0 Command: /home/biocbuild/bbs-3.23-bioc/R/bin/R CMD INSTALL HiTC StartedAt: 2025-11-11 15:30:33 -0500 (Tue, 11 Nov 2025) EndedAt: 2025-11-11 15:31:11 -0500 (Tue, 11 Nov 2025) EllapsedTime: 37.6 seconds RetCode: 0 Status: OK