Package: HiTC Version: 1.55.0 Command: /Library/Frameworks/R.framework/Resources/bin/R CMD INSTALL HiTC StartedAt: 2025-11-12 15:29:00 -0500 (Wed, 12 Nov 2025) EndedAt: 2025-11-12 15:29:15 -0500 (Wed, 12 Nov 2025) EllapsedTime: 15.3 seconds RetCode: 0 Status: OK