Package: HiTC Version: 1.55.0 Command: rm -rf HiTC.buildbin-libdir && mkdir HiTC.buildbin-libdir && /Users/biocbuild/BBS/utils/build-universal.sh HiTC_1.55.0.tar.gz /Library/Frameworks/R.framework/Resources/bin/R HiTC.buildbin-libdir StartedAt: 2025-11-12 21:00:02 -0500 (Wed, 12 Nov 2025) EndedAt: 2025-11-12 21:00:20 -0500 (Wed, 12 Nov 2025) EllapsedTime: 18.5 seconds RetCode: 0 Status: OK PackageFile: HiTC_1.55.0.tgz PackageFileSize: 3.691 MiB