Package: HiTC Version: 1.55.0 Maintainer: Nicolas Servant MaintainerEmail: nicolas.servant at curie.fr git_url: https://git.bioconductor.org/packages/HiTC git_branch: devel git_last_commit: c174dd2 git_last_commit_date: 2025-10-29 10:10:49 -0500 (Wed, 29 Oct 2025)