Package: HiLDA Version: 1.25.0 Command: /home/biocbuild/bbs-3.23-bioc/R/bin/R CMD INSTALL HiLDA StartedAt: 2025-11-13 16:00:04 -0500 (Thu, 13 Nov 2025) EndedAt: 2025-11-13 16:00:23 -0500 (Thu, 13 Nov 2025) EllapsedTime: 18.2 seconds RetCode: 0 Status: OK