Package: HiLDA Version: 1.25.0 Command: /home/biocbuild/bbs-3.23-bioc/R/bin/R CMD build --keep-empty-dirs --no-resave-data HiLDA StartedAt: 2025-11-13 18:06:00 -0500 (Thu, 13 Nov 2025) EndedAt: 2025-11-13 18:09:25 -0500 (Thu, 13 Nov 2025) EllapsedTime: 205.2 seconds RetCode: 0 Status: OK PackageFile: HiLDA_1.25.0.tar.gz PackageFileSize: 2.456 MiB