Package: HiLDA Version: 1.25.0 Command: /Library/Frameworks/R.framework/Resources/bin/R CMD INSTALL HiLDA StartedAt: 2025-11-13 15:34:20 -0500 (Thu, 13 Nov 2025) EndedAt: 2025-11-13 15:34:26 -0500 (Thu, 13 Nov 2025) EllapsedTime: 6.2 seconds RetCode: 0 Status: OK