Package: HiLDA Version: 1.25.0 Command: /Library/Frameworks/R.framework/Resources/bin/R CMD build --keep-empty-dirs --no-resave-data HiLDA StartedAt: 2025-11-13 16:42:25 -0500 (Thu, 13 Nov 2025) EndedAt: 2025-11-13 16:43:27 -0500 (Thu, 13 Nov 2025) EllapsedTime: 61.7 seconds RetCode: 0 Status: OK PackageFile: HiLDA_1.25.0.tar.gz PackageFileSize: 2.462 MiB