Package: HiLDA Version: 1.25.0 Command: rm -rf HiLDA.buildbin-libdir && mkdir HiLDA.buildbin-libdir && /Users/biocbuild/BBS/utils/build-universal.sh HiLDA_1.25.0.tar.gz /Library/Frameworks/R.framework/Resources/bin/R HiLDA.buildbin-libdir StartedAt: 2025-11-13 23:41:20 -0500 (Thu, 13 Nov 2025) EndedAt: 2025-11-13 23:41:28 -0500 (Thu, 13 Nov 2025) EllapsedTime: 8.2 seconds RetCode: 0 Status: OK PackageFile: HiLDA_1.25.0.tgz PackageFileSize: 2.611 MiB