Package: HiLDA Version: 1.25.0 Maintainer: Zhi Yang MaintainerEmail: zyang895 at gmail.com git_url: https://git.bioconductor.org/packages/HiLDA git_branch: devel git_last_commit: 0c7e75a git_last_commit_date: 2025-10-29 10:53:14 -0500 (Wed, 29 Oct 2025)