Package: HiCool Version: 1.11.0 Command: /Library/Frameworks/R.framework/Resources/bin/R CMD build --keep-empty-dirs --no-resave-data HiCool StartedAt: 2025-11-23 16:39:12 -0500 (Sun, 23 Nov 2025) EndedAt: 2025-11-23 16:40:07 -0500 (Sun, 23 Nov 2025) EllapsedTime: 54.6 seconds RetCode: 0 Status: OK PackageFile: HiCool_1.11.0.tar.gz PackageFileSize: 701.7 KiB