Package: HiContacts Version: 1.13.0 Command: /Library/Frameworks/R.framework/Resources/bin/R CMD INSTALL HiContacts StartedAt: 2025-11-13 15:15:48 -0500 (Thu, 13 Nov 2025) EndedAt: 2025-11-13 15:16:00 -0500 (Thu, 13 Nov 2025) EllapsedTime: 11.9 seconds RetCode: 0 Status: OK