Package: HiCcompare Version: 1.33.0 Command: /Library/Frameworks/R.framework/Resources/bin/R CMD build --keep-empty-dirs --no-resave-data HiCcompare StartedAt: 2025-11-13 16:41:10 -0500 (Thu, 13 Nov 2025) EndedAt: 2025-11-13 16:41:37 -0500 (Thu, 13 Nov 2025) EllapsedTime: 26.3 seconds RetCode: 0 Status: OK PackageFile: HiCcompare_1.33.0.tar.gz PackageFileSize: 3.674 MiB