Package: HiCcompare Version: 1.33.0 Command: rm -rf HiCcompare.buildbin-libdir && mkdir HiCcompare.buildbin-libdir && /Users/biocbuild/BBS/utils/build-universal.sh HiCcompare_1.33.0.tar.gz /Library/Frameworks/R.framework/Resources/bin/R HiCcompare.buildbin-libdir StartedAt: 2025-11-13 23:41:08 -0500 (Thu, 13 Nov 2025) EndedAt: 2025-11-13 23:41:27 -0500 (Thu, 13 Nov 2025) EllapsedTime: 19.5 seconds RetCode: 0 Status: OK PackageFile: HiCcompare_1.33.0.tgz PackageFileSize: 3.8 MiB