Package: HiCaptuRe Version: 1.1.0 Command: /home/biocbuild/bbs-3.23-bioc/R/bin/R CMD build --keep-empty-dirs --no-resave-data HiCaptuRe StartedAt: 2025-11-14 18:03:36 -0500 (Fri, 14 Nov 2025) EndedAt: 2025-11-14 18:05:52 -0500 (Fri, 14 Nov 2025) EllapsedTime: 136.1 seconds RetCode: 0 Status: OK PackageFile: HiCaptuRe_1.1.0.tar.gz PackageFileSize: 1.925 MiB