Package: HiCaptuRe Version: 1.1.0 Command: /Library/Frameworks/R.framework/Resources/bin/R CMD INSTALL HiCaptuRe StartedAt: 2025-11-13 15:28:17 -0500 (Thu, 13 Nov 2025) EndedAt: 2025-11-13 15:28:39 -0500 (Thu, 13 Nov 2025) EllapsedTime: 21.6 seconds RetCode: 0 Status: OK