Package: HiCaptuRe Version: 1.1.0 Command: rm -rf HiCaptuRe.buildbin-libdir && mkdir HiCaptuRe.buildbin-libdir && /Users/biocbuild/BBS/utils/build-universal.sh HiCaptuRe_1.1.0.tar.gz /Library/Frameworks/R.framework/Resources/bin/R HiCaptuRe.buildbin-libdir StartedAt: 2025-11-14 23:36:11 -0500 (Fri, 14 Nov 2025) EndedAt: 2025-11-14 23:36:38 -0500 (Fri, 14 Nov 2025) EllapsedTime: 26.7 seconds RetCode: 0 Status: OK PackageFile: HiCaptuRe_1.1.0.tgz PackageFileSize: 2.335 MiB