Package: HiCaptuRe Version: 1.1.0 Maintainer: Laureano Tomas-Daza MaintainerEmail: lauretomas at gmail.com git_url: https://git.bioconductor.org/packages/HiCaptuRe git_branch: devel git_last_commit: 342bae3 git_last_commit_date: 2025-10-29 11:37:26 -0500 (Wed, 29 Oct 2025)