Package: HiCPotts Version: 1.1.0 Command: /Library/Frameworks/R.framework/Resources/bin/R CMD INSTALL HiCPotts StartedAt: 2025-11-12 15:31:09 -0500 (Wed, 12 Nov 2025) EndedAt: 2025-11-12 15:31:11 -0500 (Wed, 12 Nov 2025) EllapsedTime: 1.1 seconds RetCode: 1 Status: ERROR