Package: HiCPotts Version: 1.1.0 Maintainer: Itunu. Godwin Osuntoki MaintainerEmail: hitunes4 at gmail.com git_url: https://git.bioconductor.org/packages/HiCPotts git_branch: devel git_last_commit: a37a5fa git_last_commit_date: 2025-10-29 11:37:09 -0500 (Wed, 29 Oct 2025)