Package: HiCParser Version: 1.3.0 Command: /home/biocbuild/bbs-3.23-bioc/R/bin/R CMD INSTALL HiCParser StartedAt: 2025-11-11 15:27:27 -0500 (Tue, 11 Nov 2025) EndedAt: 2025-11-11 15:27:56 -0500 (Tue, 11 Nov 2025) EllapsedTime: 28.8 seconds RetCode: 0 Status: OK