Package: HiCParser Version: 1.3.0 Command: /home/biocbuild/bbs-3.23-bioc/R/bin/R CMD build --keep-empty-dirs --no-resave-data HiCParser StartedAt: 2025-11-13 18:04:30 -0500 (Thu, 13 Nov 2025) EndedAt: 2025-11-13 18:05:22 -0500 (Thu, 13 Nov 2025) EllapsedTime: 52.0 seconds RetCode: 0 Status: OK PackageFile: HiCParser_1.3.0.tar.gz PackageFileSize: 324.3 KiB