Package: HiCParser Version: 1.3.0 Command: /Library/Frameworks/R.framework/Resources/bin/R CMD INSTALL HiCParser StartedAt: 2025-11-13 15:14:38 -0500 (Thu, 13 Nov 2025) EndedAt: 2025-11-13 15:14:49 -0500 (Thu, 13 Nov 2025) EllapsedTime: 11.0 seconds RetCode: 0 Status: OK