Package: HiCParser Version: 1.3.0 Command: /Library/Frameworks/R.framework/Resources/bin/R CMD build --keep-empty-dirs --no-resave-data HiCParser StartedAt: 2025-11-13 16:41:40 -0500 (Thu, 13 Nov 2025) EndedAt: 2025-11-13 16:41:59 -0500 (Thu, 13 Nov 2025) EllapsedTime: 19.2 seconds RetCode: 0 Status: OK PackageFile: HiCParser_1.3.0.tar.gz PackageFileSize: 324.3 KiB