Package: HiCExperiment Version: 1.11.0 Command: /home/biocbuild/bbs-3.23-bioc/R/bin/R CMD INSTALL HiCExperiment StartedAt: 2025-11-14 15:25:45 -0500 (Fri, 14 Nov 2025) EndedAt: 2025-11-14 15:26:15 -0500 (Fri, 14 Nov 2025) EllapsedTime: 29.3 seconds RetCode: 0 Status: OK