Package: HiCExperiment Version: 1.11.0 Maintainer: Jacques Serizay MaintainerEmail: jacquesserizay at gmail.com git_url: https://git.bioconductor.org/packages/HiCExperiment git_branch: devel git_last_commit: ba6af4b git_last_commit_date: 2025-10-29 11:21:02 -0500 (Wed, 29 Oct 2025)