Package: HiCDOC Version: 1.13.0 Command: /home/biocbuild/bbs-3.23-bioc/R/bin/R CMD build --keep-empty-dirs --no-resave-data HiCDOC StartedAt: 2025-11-13 18:03:42 -0500 (Thu, 13 Nov 2025) EndedAt: 2025-11-13 18:06:20 -0500 (Thu, 13 Nov 2025) EllapsedTime: 158.2 seconds RetCode: 0 Status: OK PackageFile: HiCDOC_1.13.0.tar.gz PackageFileSize: 3.446 MiB