Package: HiCDOC Version: 1.13.0 Command: /Library/Frameworks/R.framework/Resources/bin/R CMD build --keep-empty-dirs --no-resave-data HiCDOC StartedAt: 2025-11-13 16:41:14 -0500 (Thu, 13 Nov 2025) EndedAt: 2025-11-13 16:42:15 -0500 (Thu, 13 Nov 2025) EllapsedTime: 60.6 seconds RetCode: 0 Status: OK PackageFile: HiCDOC_1.13.0.tar.gz PackageFileSize: 3.553 MiB