Package: HiCDOC Version: 1.13.0 Maintainer: Maigné Élise MaintainerEmail: elise.maigne at inrae.fr git_url: https://git.bioconductor.org/packages/HiCDOC git_branch: devel git_last_commit: 6ee95b8 git_last_commit_date: 2025-10-29 11:17:41 -0500 (Wed, 29 Oct 2025)