Package: HiCDCPlus Version: 1.19.0 Command: /home/biocbuild/bbs-3.23-bioc/R/bin/R CMD INSTALL HiCDCPlus StartedAt: 2025-11-13 15:55:46 -0500 (Thu, 13 Nov 2025) EndedAt: 2025-11-13 15:56:29 -0500 (Thu, 13 Nov 2025) EllapsedTime: 43.1 seconds RetCode: 0 Status: OK