Package: HiCDCPlus Version: 1.19.0 Command: /Library/Frameworks/R.framework/Resources/bin/R CMD INSTALL HiCDCPlus StartedAt: 2025-11-13 15:28:20 -0500 (Thu, 13 Nov 2025) EndedAt: 2025-11-13 15:28:36 -0500 (Thu, 13 Nov 2025) EllapsedTime: 16.1 seconds RetCode: 0 Status: OK