Package: HiCDCPlus Version: 1.19.0 Command: /Library/Frameworks/R.framework/Resources/bin/R CMD build --keep-empty-dirs --no-resave-data HiCDCPlus StartedAt: 2025-11-13 16:41:11 -0500 (Thu, 13 Nov 2025) EndedAt: 2025-11-13 16:42:01 -0500 (Thu, 13 Nov 2025) EllapsedTime: 49.5 seconds RetCode: 0 Status: OK PackageFile: HiCDCPlus_1.19.0.tar.gz PackageFileSize: 1.189 MiB