Package: HiCDCPlus Version: 1.19.0 Command: rm -rf HiCDCPlus.buildbin-libdir && mkdir HiCDCPlus.buildbin-libdir && /Users/biocbuild/BBS/utils/build-universal.sh HiCDCPlus_1.19.0.tar.gz /Library/Frameworks/R.framework/Resources/bin/R HiCDCPlus.buildbin-libdir StartedAt: 2025-11-13 23:41:08 -0500 (Thu, 13 Nov 2025) EndedAt: 2025-11-13 23:41:28 -0500 (Thu, 13 Nov 2025) EllapsedTime: 20.5 seconds RetCode: 0 Status: OK PackageFile: HiCDCPlus_1.19.0.tgz PackageFileSize: 1.418 MiB