Package: HiCDCPlus Version: 1.19.0 Maintainer: Merve Sahin MaintainerEmail: merve.sahn at gmail.com git_url: https://git.bioconductor.org/packages/HiCDCPlus git_branch: devel git_last_commit: 720bb53 git_last_commit_date: 2025-10-29 11:06:20 -0500 (Wed, 29 Oct 2025)