Package: HiCBricks Version: 1.29.0 Command: /Library/Frameworks/R.framework/Resources/bin/R CMD INSTALL HiCBricks StartedAt: 2025-11-13 15:10:38 -0500 (Thu, 13 Nov 2025) EndedAt: 2025-11-13 15:10:44 -0500 (Thu, 13 Nov 2025) EllapsedTime: 6.8 seconds RetCode: 0 Status: OK