Package: HiCBricks Version: 1.29.0 Command: /Library/Frameworks/R.framework/Resources/bin/R CMD build --keep-empty-dirs --no-resave-data HiCBricks StartedAt: 2025-11-13 16:41:09 -0500 (Thu, 13 Nov 2025) EndedAt: 2025-11-13 16:41:40 -0500 (Thu, 13 Nov 2025) EllapsedTime: 30.3 seconds RetCode: 0 Status: OK PackageFile: HiCBricks_1.29.0.tar.gz PackageFileSize: 8.599 MiB