Package: HiCBricks Version: 1.29.0 Command: rm -rf HiCBricks.buildbin-libdir && mkdir HiCBricks.buildbin-libdir && /Users/biocbuild/BBS/utils/build-universal.sh HiCBricks_1.29.0.tar.gz /Library/Frameworks/R.framework/Resources/bin/R HiCBricks.buildbin-libdir StartedAt: 2025-11-13 23:41:06 -0500 (Thu, 13 Nov 2025) EndedAt: 2025-11-13 23:41:16 -0500 (Thu, 13 Nov 2025) EllapsedTime: 9.2 seconds RetCode: 0 Status: OK PackageFile: HiCBricks_1.29.0.tgz PackageFileSize: 9.095 MiB