Package: HiCBricks Version: 1.29.0 Maintainer: Koustav Pal MaintainerEmail: koustav.pal at ifom.eu git_url: https://git.bioconductor.org/packages/HiCBricks git_branch: devel git_last_commit: cac0a08 git_last_commit_date: 2025-10-29 10:48:17 -0500 (Wed, 29 Oct 2025)