Package: HelloRanges Version: 1.37.0 Command: /home/biocbuild/bbs-3.23-bioc/R/bin/R CMD build --keep-empty-dirs --no-resave-data HelloRanges StartedAt: 2025-11-11 18:06:38 -0500 (Tue, 11 Nov 2025) EndedAt: 2025-11-11 18:10:15 -0500 (Tue, 11 Nov 2025) EllapsedTime: 217.2 seconds RetCode: 0 Status: OK PackageFile: HelloRanges_1.37.0.tar.gz PackageFileSize: 951.4 KiB