Package: HelloRanges Version: 1.37.0 Command: /Library/Frameworks/R.framework/Resources/bin/R CMD build --keep-empty-dirs --no-resave-data HelloRanges StartedAt: 2025-11-12 16:27:56 -0500 (Wed, 12 Nov 2025) EndedAt: 2025-11-12 16:29:43 -0500 (Wed, 12 Nov 2025) EllapsedTime: 107.2 seconds RetCode: 0 Status: OK PackageFile: HelloRanges_1.37.0.tar.gz PackageFileSize: 951.5 KiB