Package: HelloRanges Version: 1.37.0 Command: rm -rf HelloRanges.buildbin-libdir && mkdir HelloRanges.buildbin-libdir && /Users/biocbuild/BBS/utils/build-universal.sh HelloRanges_1.37.0.tar.gz /Library/Frameworks/R.framework/Resources/bin/R HelloRanges.buildbin-libdir StartedAt: 2025-11-12 20:59:46 -0500 (Wed, 12 Nov 2025) EndedAt: 2025-11-12 21:00:07 -0500 (Wed, 12 Nov 2025) EllapsedTime: 20.5 seconds RetCode: 0 Status: OK PackageFile: HelloRanges_1.37.0.tgz PackageFileSize: 968 KiB