Package: Harshlight Version: 1.81.1 Command: /home/biocbuild/bbs-3.23-bioc/R/bin/R CMD INSTALL Harshlight StartedAt: 2025-10-22 21:09:22 -0000 (Wed, 22 Oct 2025) EndedAt: 2025-10-22 21:09:23 -0000 (Wed, 22 Oct 2025) EllapsedTime: 1.0 seconds RetCode: 1 Status: ERROR