Package: Harshlight Version: 1.81.1 Command: /home/biocbuild/bbs-3.23-bioc/R/bin/R CMD build --keep-empty-dirs --no-resave-data Harshlight StartedAt: 2025-10-22 23:12:59 -0000 (Wed, 22 Oct 2025) EndedAt: 2025-10-22 23:13:00 -0000 (Wed, 22 Oct 2025) EllapsedTime: 1.0 seconds RetCode: 1 Status: ERROR PackageFile: None PackageFileSize: NA