Package: HarmonizR Version: 1.9.0 Command: /Library/Frameworks/R.framework/Resources/bin/R CMD INSTALL HarmonizR StartedAt: 2025-11-14 15:18:10 -0500 (Fri, 14 Nov 2025) EndedAt: 2025-11-14 15:18:12 -0500 (Fri, 14 Nov 2025) EllapsedTime: 1.0 seconds RetCode: 0 Status: OK