Package: HarmonizR Version: 1.9.0 Command: /Library/Frameworks/R.framework/Resources/bin/R CMD build --keep-empty-dirs --no-resave-data HarmonizR StartedAt: 2025-11-14 16:36:48 -0500 (Fri, 14 Nov 2025) EndedAt: 2025-11-14 16:36:57 -0500 (Fri, 14 Nov 2025) EllapsedTime: 9.1 seconds RetCode: 0 Status: OK PackageFile: HarmonizR_1.9.0.tar.gz PackageFileSize: 50.51 KiB