Package: HarmonizR Version: 1.9.0 Command: rm -rf HarmonizR.buildbin-libdir && mkdir HarmonizR.buildbin-libdir && /Users/biocbuild/BBS/utils/build-universal.sh HarmonizR_1.9.0.tar.gz /Library/Frameworks/R.framework/Resources/bin/R HarmonizR.buildbin-libdir StartedAt: 2025-11-14 23:36:01 -0500 (Fri, 14 Nov 2025) EndedAt: 2025-11-14 23:36:03 -0500 (Fri, 14 Nov 2025) EllapsedTime: 2.1 seconds RetCode: 0 Status: OK PackageFile: HarmonizR_1.9.0.tgz PackageFileSize: 92.9 KiB