Package: HTqPCR Version: 1.65.0 Command: /home/biocbuild/bbs-3.23-bioc/R/bin/R CMD INSTALL HTqPCR StartedAt: 2025-11-11 16:03:51 -0500 (Tue, 11 Nov 2025) EndedAt: 2025-11-11 16:03:58 -0500 (Tue, 11 Nov 2025) EllapsedTime: 7.2 seconds RetCode: 0 Status: OK