Package: HTqPCR Version: 1.65.0 Command: /Library/Frameworks/R.framework/Resources/bin/R CMD INSTALL HTqPCR StartedAt: 2025-11-12 15:45:42 -0500 (Wed, 12 Nov 2025) EndedAt: 2025-11-12 15:45:45 -0500 (Wed, 12 Nov 2025) EllapsedTime: 3.1 seconds RetCode: 0 Status: OK