Package: HTqPCR Version: 1.65.0 Command: /Library/Frameworks/R.framework/Resources/bin/R CMD build --keep-empty-dirs --no-resave-data HTqPCR StartedAt: 2025-11-13 16:43:11 -0500 (Thu, 13 Nov 2025) EndedAt: 2025-11-13 16:43:19 -0500 (Thu, 13 Nov 2025) EllapsedTime: 8.1 seconds RetCode: 0 Status: OK PackageFile: HTqPCR_1.65.0.tar.gz PackageFileSize: 2.581 MiB